BEGIN:VCALENDAR
VERSION:2.0
PRODID:-//Fédération Départementale des Foyers Ruraux de Meurthe et Moselle - ECPv6.2.9//NONSGML v1.0//EN
CALSCALE:GREGORIAN
METHOD:PUBLISH
X-WR-CALNAME:Fédération Départementale des Foyers Ruraux de Meurthe et Moselle
X-ORIGINAL-URL:https://fdfr54.foyersruraux.org
X-WR-CALDESC:évènements pour Fédération Départementale des Foyers Ruraux de Meurthe et Moselle
REFRESH-INTERVAL;VALUE=DURATION:PT1H
X-Robots-Tag:noindex
X-PUBLISHED-TTL:PT1H
BEGIN:VTIMEZONE
TZID:Europe/Paris
BEGIN:DAYLIGHT
TZOFFSETFROM:+0100
TZOFFSETTO:+0200
TZNAME:CEST
DTSTART:20260329T010000
END:DAYLIGHT
BEGIN:STANDARD
TZOFFSETFROM:+0200
TZOFFSETTO:+0100
TZNAME:CET
DTSTART:20261025T010000
END:STANDARD
END:VTIMEZONE
BEGIN:VEVENT
DTSTART;TZID=Europe/Paris:20260620T093000
DTEND;TZID=Europe/Paris:20260620T163000
DTSTAMP:20260424T183246
CREATED:20260415T122235Z
LAST-MODIFIED:20260415T122555Z
UID:24996-1781947800-1781973000@fdfr54.foyersruraux.org
SUMMARY:Ateliers Arts Plastiques > Créations pour la fête du sport
DESCRIPTION:Venez participer aux ateliers créatifs pour décorer la \n “Faites et (re) Fête du sport” \nTout public\, à partir 6 ans > Gratuit \n5 ateliers sont organisés\, vous pouvez venir quand vous le souhaitez ! \nDe 09h30 à 12h30 et/ou 13h30 à 16h30 > Repas tiré du sac possible. \nVendredi 24 avril > Crévic (salle du Foyer Rural – 1er étage de la bibliothèque) \nSamedi 6 juin > Burthecourt (salle communale – mairie) \nSamedi 20 juin > Azelot (salle communale – mairie) \nSamedi 27 juin > Ville En Vermois (Salle Foyer – Mairie) \nSamedi 5 septembre > Crévic (Salle polyvalente) \nInscription auprès de Linda ou au 06 30 53 63 60 > transmettez votre Nom\, Prénom\, Âge et Village
URL:https://fdfr54.foyersruraux.org/evenement/ateliers-arts-plastique-creations-pour-la-fete-du-sport-3/
LOCATION:Azelot\, 6\, Grande Rue\, Azelot\, 54210\, France
ORGANIZER;CN="FDFR54":MAILTO:contact@foyersruraux54.org
END:VEVENT
END:VCALENDAR