BEGIN:VCALENDAR
VERSION:2.0
PRODID:-//Fédération Départementale des Foyers Ruraux de Meurthe et Moselle - ECPv6.2.9//NONSGML v1.0//EN
CALSCALE:GREGORIAN
METHOD:PUBLISH
X-ORIGINAL-URL:https://fdfr54.foyersruraux.org
X-WR-CALDESC:évènements pour Fédération Départementale des Foyers Ruraux de Meurthe et Moselle
REFRESH-INTERVAL;VALUE=DURATION:PT1H
X-Robots-Tag:noindex
X-PUBLISHED-TTL:PT1H
BEGIN:VTIMEZONE
TZID:Europe/Paris
BEGIN:DAYLIGHT
TZOFFSETFROM:+0100
TZOFFSETTO:+0200
TZNAME:CEST
DTSTART:20260329T010000
END:DAYLIGHT
BEGIN:STANDARD
TZOFFSETFROM:+0200
TZOFFSETTO:+0100
TZNAME:CET
DTSTART:20261025T010000
END:STANDARD
END:VTIMEZONE
BEGIN:VEVENT
DTSTART;TZID=Europe/Paris:20260905T093000
DTEND;TZID=Europe/Paris:20260905T163000
DTSTAMP:20260424T183439
CREATED:20260415T122434Z
LAST-MODIFIED:20260415T122522Z
UID:25001-1788600600-1788625800@fdfr54.foyersruraux.org
SUMMARY:Ateliers Arts Plastiques > Créations pour la fête du sport
DESCRIPTION:Venez participer aux ateliers créatifs pour décorer la \n “Faites et (re) Fête du sport” \nTout public\, à partir 6 ans > Gratuit \n5 ateliers sont organisés\, vous pouvez venir quand vous le souhaitez ! \nDe 09h30 à 12h30 et/ou 13h30 à 16h30 > Repas tiré du sac possible. \nVendredi 24 avril > Crévic (salle du Foyer Rural – 1er étage de la bibliothèque) \nSamedi 6 juin > Burthecourt (salle communale – mairie) \nSamedi 20 juin > Azelot (salle communale – mairie) \nSamedi 27 juin > Ville En Vermois (Salle Foyer – Mairie) \nSamedi 5 septembre > Crévic (Salle polyvalente) \nInscription auprès de Linda ou au 06 30 53 63 60 > transmettez votre Nom\, Prénom\, Âge et Village
URL:https://fdfr54.foyersruraux.org/evenement/ateliers-arts-plastique-creations-pour-la-fete-du-sport-5/
LOCATION:Crevic\, Rue Gambetta\, Crévic\, 54110\, France
ORGANIZER;CN="FDFR54":MAILTO:contact@foyersruraux54.org
END:VEVENT
BEGIN:VEVENT
DTSTART;TZID=Europe/Paris:20260911T203000
DTEND;TZID=Europe/Paris:20260913T180000
DTSTAMP:20260424T183439
CREATED:20260414T130800Z
LAST-MODIFIED:20260414T130800Z
UID:24981-1789158600-1789322400@fdfr54.foyersruraux.org
SUMMARY:Faites et (re)Fête du sport
DESCRIPTION:A Crévic\, pendant 3 jours\, venez vivre un moment d’éducation populaire autour du sport ludique\, du sport pour tous\, du sport santé\, du sport effort\, du sport détente\, du sport ensemble ! \nUn programme riche et varié que vous retrouverez ici ! \nVenez nombreuses et nombreux les 11-12-13 septembre 2026 \n 
URL:https://fdfr54.foyersruraux.org/evenement/faites-et-refete-du-sport/
LOCATION:Crevic\, Rue Gambetta\, Crévic\, 54110\, France
END:VEVENT
END:VCALENDAR